﻿BEGIN:VCALENDAR
VERSION:2.0
PRODID:-//Health Matters - ECPv5.3.2.1//NONSGML v1.0//EN
CALSCALE:GREGORIAN
METHOD:PUBLISH
X-WR-CALNAME:Health Matters
X-ORIGINAL-URL:https://healthmatters.idaho.gov
X-WR-CALDESC:Events for Health Matters
BEGIN:VTIMEZONE
TZID:America/Boise
BEGIN:DAYLIGHT
TZOFFSETFROM:-0700
TZOFFSETTO:-0600
TZNAME:MDT
DTSTART:20210314T090000
END:DAYLIGHT
BEGIN:STANDARD
TZOFFSETFROM:-0600
TZOFFSETTO:-0700
TZNAME:MST
DTSTART:20211107T080000
END:STANDARD
END:VTIMEZONE
BEGIN:VEVENT
DTSTART;TZID=America/Boise:20210810T090000
DTEND;TZID=America/Boise:20210810T133000
DTSTAMP:20211007T180058
CREATED:20201215T194054Z
LAST-MODIFIED:20201215T212312Z
UID:153928-1628586000-1628602200@healthmatters.idaho.gov
SUMMARY:Capitol Mall Employee Blood Drive
DESCRIPTION:Give the gift of life at the Capitol Mall Employee Blood Drive on August 10. Schedule your appointment online.\n\n\nJR Williams Building – East Conference Room\n\n700 W State Street\, Boise\, ID 83702
URL:https://healthmatters.idaho.gov/event/capitol-mall-employee-blood-drive-4/
CATEGORIES:Southwest Events
ATTACH;FMTTYPE=image/png:https://healthmatters.idaho.gov/wp-content/uploads/sites/120/2020/08/Blood-Drive-banner_small.fw_.png
END:VEVENT
BEGIN:VEVENT
DTSTART;TZID=America/Boise:20210812T140000
DTEND;TZID=America/Boise:20210812T150000
DTSTAMP:20211007T180058
CREATED:20210308T235024Z
LAST-MODIFIED:20210308T235052Z
UID:154712-1628776800-1628780400@healthmatters.idaho.gov
SUMMARY:Let's Talk Money
DESCRIPTION:Budgeting\, spending and savings plan\, monthly/yearly financial plan\, whatever you call it… whatever your method is (or isn’t) that you do each month to make sure the bills get paid\, this chat is for you. One of the great things about 2020 is that it opened up the door to some new ways we can communicate and bring resources to you without leaving your house. Every month\, UI Extension will offer a POP-UP CHAT on the first Thursday of every month (except for August\, when it will be held on the second Thursday). \n\n\nIn these chats\, we will talk about budgeting tools\, tips and ideas to help you make the most of your dollars. You are welcome to come to one or all of the sessions. Each session will be different to cover all of the resources but will always have the same common theme… creating a livable spending and savings plan. Bring your questions… we’ll have answers.\n\n\nRESERVE YOUR SPOT ONLINE NOW!
URL:https://healthmatters.idaho.gov/event/lets-talk-money-2/
CATEGORIES:Statewide Events
ATTACH;FMTTYPE=image/png:https://healthmatters.idaho.gov/wp-content/uploads/sites/120/2021/03/financial-wellness.fw_-2.png
END:VEVENT
BEGIN:VEVENT
DTSTART;TZID=America/Boise:20210902T140000
DTEND;TZID=America/Boise:20210902T150000
DTSTAMP:20211007T180058
CREATED:20210308T234713Z
LAST-MODIFIED:20210308T235134Z
UID:154688-1630591200-1630594800@healthmatters.idaho.gov
SUMMARY:Let's Talk Money
DESCRIPTION:Budgeting\, spending and savings plan\, monthly/yearly financial plan\, whatever you call it… whatever your method is (or isn’t) that you do each month to make sure the bills get paid\, this chat is for you. One of the great things about 2020 is that it opened up the door to some new ways we can communicate and bring resources to you without leaving your house. Every month\, UI Extension will offer a POP-UP CHAT on the first Thursday of every month (except for August\, when it will be held on the second Thursday). \n\n\nIn these chats\, we will talk about budgeting tools\, tips and ideas to help you make the most of your dollars. You are welcome to come to one or all of the sessions. Each session will be different to cover all of the resources but will always have the same common theme… creating a livable spending and savings plan. Bring your questions… we’ll have answers.\n\n\nRESERVE YOUR SPOT ONLINE NOW!
URL:https://healthmatters.idaho.gov/event/lets-talk-money/2021-09-02/
CATEGORIES:Statewide Events
ATTACH;FMTTYPE=image/png:https://healthmatters.idaho.gov/wp-content/uploads/sites/120/2021/03/financial-wellness.fw_-2.png
END:VEVENT
END:VCALENDAR